BEGIN:VCALENDAR
VERSION:2.0
PRODID:-//Wild Wellbeing - ECPv6.15.20//NONSGML v1.0//EN
CALSCALE:GREGORIAN
METHOD:PUBLISH
X-ORIGINAL-URL:https://wildwellbeing.co.nz
X-WR-CALDESC:Events for Wild Wellbeing
REFRESH-INTERVAL;VALUE=DURATION:PT1H
X-Robots-Tag:noindex
X-PUBLISHED-TTL:PT1H
BEGIN:VTIMEZONE
TZID:UTC
BEGIN:STANDARD
TZOFFSETFROM:+0000
TZOFFSETTO:+0000
TZNAME:UTC
DTSTART:20210101T000000
END:STANDARD
END:VTIMEZONE
BEGIN:VEVENT
DTSTART;TZID=UTC:20220817T191500
DTEND;TZID=UTC:20220817T201500
DTSTAMP:20260424T213914
CREATED:20220712T015033Z
LAST-MODIFIED:20220712T015033Z
UID:1556-1660763700-1660767300@wildwellbeing.co.nz
SUMMARY:4 week mindfulness course
DESCRIPTION:A course to support you to be present in your daily life.\nBeing mindful is actually a bit like mind less – living with less on your mind and more focus on this moment right now.\nIt is being present to whatever is here and being focused on the moment without the mind racing off in many directions at once.\nThis course can be supportive of you if you have a busy mind.\nLife can feel like it’s rushing past\, with so much to plan and to organize\, with people to look after\, with so much to do\, that there is no space for you.\n\nJoin Annette over 4 weeks as we journey through mindfulness. Includes:\n– Coping with stress\n– Awareness of the triggers and patterns for anxiety\n– Preventing stress and anxiety\n– Learning to be present in the moment\n– Guided meditations and exercises\n\nThe course will include: Discussion\, inquiry\, ideas\, techniques\, guided meditations and exercises\n\nStarts Wednesday 17th August 7.15pm – 8.15pm\nBook in here: https://bit.ly/3ICKiWE
URL:https://wildwellbeing.co.nz/event/4-week-mindfulness-course/
LOCATION:Wild Wellbeing Studio\, Level 1/345 Kapiti Road\, Paraparaumu Beach\, Wellington\, 5032\, New Zealand
CATEGORIES:Beginners,Course
ATTACH;FMTTYPE=image/png:https://wildwellbeing.co.nz/wp-content/uploads/2022/07/Mindfulness-Course-Facebook-Event-Cover.png
END:VEVENT
BEGIN:VEVENT
DTSTART;TZID=UTC:20220625T180000
DTEND;TZID=UTC:20220625T200000
DTSTAMP:20260424T213914
CREATED:20220518T021705Z
LAST-MODIFIED:20220614T022819Z
UID:1522-1656180000-1656187200@wildwellbeing.co.nz
SUMMARY:Cacao circle
DESCRIPTION:A heart warming cacao and movement experience. \nWe will call in the spirit of cacao and connect to the heartbeat of the earth as we move and channel to our highest creative selves. The movement will combine methods of yoga\, shaking medicine\, qi gong\, and dance beginning low and slow building our way up with plenty of space to express whatever needs to be released or acknowledged. Gather in circle\, set intention\, laugh\, love and give yourself the gift presence. \nSaturday 6-8pm | June 25 | $39 p/person\nMembers get 15% off \nBook here: https://bit.ly/3wBXEgb \nPlease bring with you:\nA comfy pillow or cushion\nA crystal or special adornment for our collective altar\nyour journal + pen\nand a mug for your cacao \nOpen to all. \nSarah is a certified yoga and shaking medicine facilitator of more than 9 years originating from Canada where her roots are connected to the Native Americans. She draws upon this connection to living in harmony with the earth and following her intuitive style of sharing to infuse each class with sacredness\, beauty and a very grounded sense of being. \nIncludes:\n– Opening Circle (connection)\n– Cacao\n– Creative free style writing (share circle)\n– Breath\n– Yoga\n– Shaking\n– Dance (whats alive)\n– Closing Circle (Intentions/Realisations)
URL:https://wildwellbeing.co.nz/event/cacao-circle/
LOCATION:Wild Wellbeing Studio\, Level 1/345 Kapiti Road\, Paraparaumu Beach\, Wellington\, 5032\, New Zealand
CATEGORIES:Beginners,Workshop
ATTACH;FMTTYPE=image/png:https://wildwellbeing.co.nz/wp-content/uploads/2022/05/Cacao-circle-1000-×-1000-px-Facebook-Event-Cover-1.png
END:VEVENT
BEGIN:VEVENT
DTSTART;TZID=UTC:20220610T193000
DTEND;TZID=UTC:20220610T210000
DTSTAMP:20260424T213914
CREATED:20220518T022053Z
LAST-MODIFIED:20220518T022053Z
UID:1521-1654889400-1654894800@wildwellbeing.co.nz
SUMMARY:Journey into Serenity
DESCRIPTION:Yin yoga and sound healing come together to create this deeply relaxing and healing experience. \nGeorgina will guide you through 90-minutes of yin yoga focusing on restorative poses that are intended for you to receive the healing vibration of sound.  While in the poses Shanthi will use a wide range of healing sound instruments including singing bowls\, koshi chimes and ocean drum along with her voice to guide you deeper into peace\, relaxation and stillness.  The healing vibration of the sound will wash over you bringing clearing\, balance and alignment. \nYin yoga focuses on floor poses which work into the deeper connective tissues of the body.  Poses are held for anywhere between 3 – 5 minutes to allow for an opening in the body\, the perfect way to receive the sound vibrations.  Yin yoga invites us into stillness giving space for the mind and body to relax and release tension and stress. \nWhether you are a regular to Georgina’s yin classes at the studio or looking to try something new\, this evening will guide you through a journey into a sense of serenity.  Everyone is welcome. \nFriday 7.30pm – 9pm | 10th June | $35 \nMembers get 15% off! \nBook here: https://bit.ly/3sGAunQ \nMeet the teachers: \nGeorgina came to yoga following a major change in her life. After being introduced to meditation she found a calmness and awareness in her life that she had never experienced before and decided to leave her marketing career to follow this path. She has completed over 1\,000 hours in yoga teacher trainings\, and with her husband designed and built Azadi Retreat\, a yoga retreat center in Bali. She has taught internationally with her Yoga School Inner Yoga Training but has been based in Wellington for the last couple of years where she is from. As well as an E-RYT200 qualified yoga teacher\, Georgina is a certified Life Mastery Consultant and Mindfulness teacher and is passionate about helping people find their passion in life and live a life they truly love. Georgina brings a warm heart and openness to her teaching and loves introducing people to the benefits of mindfulness\, meditation and yin yoga. \nShanti came to explore sound and healing when she had Chronic Fatigue Syndrome in the 1990s.  Sound\, Vibration\, Voice work and Energy healing were an essential part of her full recovery and she went on to study and train extensively in each of these areas. \nShe now offers a number of transformational group and one to one experiences including Heartsong circles\, Voice Empowerment Coaching\, Power Song co- creation\, Sound Healing and Reiki.  You can read more about these at www.facebook.com/heartsongofawakening
URL:https://wildwellbeing.co.nz/event/journey-into-serenity/
LOCATION:Wild Wellbeing Studio\, Level 1/345 Kapiti Road\, Paraparaumu Beach\, Wellington\, 5032\, New Zealand
CATEGORIES:Beginners,Workshop
ATTACH;FMTTYPE=image/png:https://wildwellbeing.co.nz/wp-content/uploads/2022/05/Journey-into-Serenity-1000-×-1000px-Facebook-Event-Cover.png
END:VEVENT
BEGIN:VEVENT
DTSTART;TZID=UTC:20220604T080000
DTEND;TZID=UTC:20220605T180000
DTSTAMP:20260424T213914
CREATED:20220512T021509Z
LAST-MODIFIED:20220512T021554Z
UID:1511-1654329600-1654452000@wildwellbeing.co.nz
SUMMARY:Studio Open Weekend!
DESCRIPTION:Celebrate our new timetable launch and come and see what our studio is all about.\nJoin us for FREE classes all weekend & enjoy specials in the studio.\n\n== 4th & 5th June WEEKEND TIMETABLE ==\nSATURDAY\n– 8am Barre (45mins) with Kasia\n– 9am Slow Flow Yoga (1 hour) with Heidi\n– 3pm Pilates (45 mins) with Kelly\n\nSUNDAY\n– 9.30am Yoga (1 hour) with Sarah\n– 5pm Yin Yoga (1 hour) with Georgina\n\nBook in and reserve your spot\nhttps://bit.ly/3N4CEVN
URL:https://wildwellbeing.co.nz/event/studio-open-weekend/
LOCATION:Wild Wellbeing Studio\, Level 1/345 Kapiti Road\, Paraparaumu Beach\, Wellington\, 5032\, New Zealand
CATEGORIES:Studio
ATTACH;FMTTYPE=image/jpeg:https://wildwellbeing.co.nz/wp-content/uploads/2022/05/fbheader.jpg
END:VEVENT
BEGIN:VEVENT
DTSTART;TZID=UTC:20220504T154500
DTEND;TZID=UTC:20220504T161400
DTSTAMP:20260424T213914
CREATED:20220307T025557Z
LAST-MODIFIED:20220307T025557Z
UID:1473-1651679100-1651680840@wildwellbeing.co.nz
SUMMARY:4-7yr olds Kids Yoga Term
DESCRIPTION:We love sharing yoga with everyone\, especially children!\nOur classes are fun-filled and playfully instructed by highly qualified teachers who are passionate about kids and yoga!\nOver the course of 10 weeks\, your child will use stories\, play\, partner work and group activities to explore:\n– yoga asana\n– breathwork\n– fun mindfulness activities\n– meditation techniques\nWe include\, songs\, games\, story-time\, crafts\, and balancing poses as well some Zen time\, so that your littlie leaves feeling confident\, calm and centered. For the older groups we also include things like empowerment techniques\, self-compassion\, stress management activities\, journaling\, dream boards and sharing circles.\nWith everything kids have to deal with in their generation: social media\, internet\, screens\, increased stress\, global pandemics. We want to give them the skills to cope and flourish.\nThe Dalai Lama once said\, “If every 8 year old in the world is taught meditation\, we will eliminate violence from the world within one generation.”\nYour child is also sure to make new friends throughout the term!\n4-7yr old | Wednesday 3.45 – 4.15 | $70 (10 week term) https://bit.ly/3twpUiB\nTerm runs Monday 2 May to Friday 8 July
URL:https://wildwellbeing.co.nz/event/4-7yr-olds-kids-yoga-term/
LOCATION:Wild Wellbeing Studio\, Level 1/345 Kapiti Road\, Paraparaumu Beach\, Wellington\, 5032\, New Zealand
CATEGORIES:Children,Course
ATTACH;FMTTYPE=image/png:https://wildwellbeing.co.nz/wp-content/uploads/2022/03/Kids-YOGA-4-7-Facebook-Cover.png
END:VEVENT
BEGIN:VEVENT
DTSTART;TZID=UTC:20220502T154500
DTEND;TZID=UTC:20220502T161500
DTSTAMP:20260424T213914
CREATED:20220307T025608Z
LAST-MODIFIED:20220307T025608Z
UID:1474-1651506300-1651508100@wildwellbeing.co.nz
SUMMARY:8-12yr olds Kids Yoga Term
DESCRIPTION:We love sharing yoga with everyone\, especially children!\nOur classes are fun-filled and playfully instructed by highly qualified teachers who are passionate about kids and yoga!\nOver the course of 10 weeks\, your child will use stories\, play\, partner work and group activities to explore:\n– yoga asana\n– breathwork\n– fun mindfulness activities\n– meditation techniques\nWe include\, songs\, games\, story-time\, crafts\, and balancing poses as well some Zen time\, so that your littlie leaves feeling confident\, calm and centered. For the older groups we also include things like empowerment techniques\, self-compassion\, stress management activities\, journaling\, dream boards and sharing circles.\nWith everything kids have to deal with in their generation: social media\, internet\, screens\, increased stress\, global pandemics. We want to give them the skills to cope and flourish.\nThe Dalai Lama once said\, “If every 8 year old in the world is taught meditation\, we will eliminate violence from the world within one generation.”\nYour child is also sure to make new friends throughout the term!\n8-12yr old | Monday 3.45 – 4.30 | $90 (9 week term) https://bit.ly/3pGOHj2\nTerm runs Monday 2 May to Friday 8 July
URL:https://wildwellbeing.co.nz/event/8-12yr-olds-kids-yoga-term/
LOCATION:Wild Wellbeing Studio\, Level 1/345 Kapiti Road\, Paraparaumu Beach\, Wellington\, 5032\, New Zealand
CATEGORIES:Children,Course
ATTACH;FMTTYPE=image/png:https://wildwellbeing.co.nz/wp-content/uploads/2022/03/Kids-YOGA-8-12-Facebook-Cover.png
END:VEVENT
END:VCALENDAR