BEGIN:VCALENDAR
VERSION:2.0
PRODID:-//Wild Wellbeing - ECPv6.15.20//NONSGML v1.0//EN
CALSCALE:GREGORIAN
METHOD:PUBLISH
X-WR-CALNAME:Wild Wellbeing
X-ORIGINAL-URL:https://wildwellbeing.co.nz
X-WR-CALDESC:Events for Wild Wellbeing
REFRESH-INTERVAL;VALUE=DURATION:PT1H
X-Robots-Tag:noindex
X-PUBLISHED-TTL:PT1H
BEGIN:VTIMEZONE
TZID:UTC
BEGIN:STANDARD
TZOFFSETFROM:+0000
TZOFFSETTO:+0000
TZNAME:UTC
DTSTART:20210101T000000
END:STANDARD
END:VTIMEZONE
BEGIN:VEVENT
DTSTART;TZID=UTC:20251022T104500
DTEND;TZID=UTC:20251022T110000
DTSTAMP:20260424T200443
CREATED:20240714T052352Z
LAST-MODIFIED:20250904T085420Z
UID:2039-1761129900-1761130800@wildwellbeing.co.nz
SUMMARY:Mum's and Bubs Yoga Classes
DESCRIPTION:Our Mum’s and Bubs classes are perfect for new mum’s with babies up to the age of one to enjoy an hour of ‘me time’. Our classes focus on strengthening and supporting your body without too much pressure.\n\nWe specialise in flexibility – we get it\, babies are unpredictable – so don’t be afraid to come along\, bring your adorable bub and give it a go.\nIt is important to check with your midwife\, GP or obstetrician first to see if you have any risks which may limit your exercise ability.\n10 week block 10.45am Thursday’s. Starting 1st May!\nOnly $90\nBook in here: https://www.wellnessliving.com/rs/event/wild_wellbeing?k_class=100000001257
URL:https://wildwellbeing.co.nz/event/mums-and-bubs-yoga-classes/
LOCATION:Wild Wellbeing Studio\, Level 1/345 Kapiti Road\, Paraparaumu Beach\, Wellington\, 5032\, New Zealand
CATEGORIES:Beginners,Children,Course,Workshop
END:VEVENT
BEGIN:VEVENT
DTSTART;TZID=UTC:20240208T153000
DTEND;TZID=UTC:20240208T161500
DTSTAMP:20260424T200443
CREATED:20230703T082429Z
LAST-MODIFIED:20231204T074303Z
UID:1904-1707406200-1707408900@wildwellbeing.co.nz
SUMMARY:Kids mindful movement
DESCRIPTION:Mindful movement – We Like to Move it!\n\nUsing a combination of movement to music\, yoga\, pilates & meditation\, this program is Designed to help your little people with breath work & to get moving! We incorporate games & journaling in to the program to keep them engaged and have lots of fun on the way.\nA safe & fun environment for your favourite little human.\n\n7-12yrs old | Thursday 3.30 – 4.15 | Thursday 8 February – 11 April | $110 for 10 week term\nBook your spot: https://bit.ly/3R8eNZ3
URL:https://wildwellbeing.co.nz/event/kids-mindful-movement/
LOCATION:Wild Wellbeing Studio\, Level 1/345 Kapiti Road\, Paraparaumu Beach\, Wellington\, 5032\, New Zealand
CATEGORIES:Children
ATTACH;FMTTYPE=image/png:https://wildwellbeing.co.nz/wp-content/uploads/2023/07/Kids-YOGA-Facebook-Cover-1.png
END:VEVENT
BEGIN:VEVENT
DTSTART;TZID=UTC:20230424T153000
DTEND;TZID=UTC:20230424T161500
DTSTAMP:20260424T200443
CREATED:20221205T072500Z
LAST-MODIFIED:20230324T000533Z
UID:1675-1682350200-1682352900@wildwellbeing.co.nz
SUMMARY:Kids Yoga Term 8-12yr old
DESCRIPTION:We love sharing yoga with everyone\, especially children!\nOur classes are fun-filled and playfully instructed by highly qualified teachers who are passionate about kids and yoga!\n\nOver the course of 10 weeks\, your child will use stories\, play\, partner work and group activities to explore:\n– yoga asana\n– breathwork\n– fun mindfulness activities\n– meditation techniques\n\nWe include\, songs\, games\, story-time\, crafts\, and balancing poses as well some Zen time\, so that your littlie leaves feeling confident\, calm and centered. For the older groups we also include things like empowerment techniques\, self-compassion\, stress management activities\, journaling\, dream boards and sharing circles.\n\nWith everything kids have to deal with in their generation: social media\, internet\, screens\, increased stress\, global pandemics. We want to give them the skills to cope and flourish.\n\nThe Dalai Lama once said\, “If every 8 year old in the world is taught meditation\, we will eliminate violence from the world within one generation.”\n\nYour child is also sure to make new friends throughout the term!\n\n8-12yr old | Monday 3.30 – 4.15 | $99 (10 week term) http://bit.ly/3ZfFAEK\nTerm runs Monday 24th April – 26th June 2023
URL:https://wildwellbeing.co.nz/event/kids-yoga-term-8-12yr-old/
LOCATION:Wild Wellbeing Studio\, Level 1/345 Kapiti Road\, Paraparaumu Beach\, Wellington\, 5032\, New Zealand
CATEGORIES:Children,Course
ATTACH;FMTTYPE=image/png:https://wildwellbeing.co.nz/wp-content/uploads/2022/12/Kids-YOGA-Facebook-Cover4.png
END:VEVENT
BEGIN:VEVENT
DTSTART;VALUE=DATE:20221017
DTEND;VALUE=DATE:20221018
DTSTAMP:20260424T200443
CREATED:20220614T225605Z
LAST-MODIFIED:20221003T003004Z
UID:1538-1665964800-1666051199@wildwellbeing.co.nz
SUMMARY:Kids Yoga Term 8-12yr old
DESCRIPTION:We love sharing yoga with everyone\, especially children!\nOur classes are fun-filled and playfully instructed by highly qualified teachers who are passionate about kids and yoga!\n\nOver the course of 10 weeks\, your child will use stories\, play\, partner work and group activities to explore:\n– yoga asana\n– breathwork\n– fun mindfulness activities\n– meditation techniques\n\nWe include\, songs\, games\, story-time\, crafts\, and balancing poses as well some Zen time\, so that your littlie leaves feeling confident\, calm and centered. For the older groups we also include things like empowerment techniques\, self-compassion\, stress management activities\, journaling\, dream boards and sharing circles.\n\nWith everything kids have to deal with in their generation: social media\, internet\, screens\, increased stress\, global pandemics. We want to give them the skills to cope and flourish.\n\nThe Dalai Lama once said\, “If every 8 year old in the world is taught meditation\, we will eliminate violence from the world within one generation.”\n\nYour child is also sure to make new friends throughout the term!\n\n8-12yr old | Monday 3.30 – 4.15 | $80 (8 week term) https://bit.ly/3ruw1Dm\nTerm runs Monday October 17 – December 16\, 2022\n 
URL:https://wildwellbeing.co.nz/event/kids-yoga-term-4-7-8-12yr-old-groups/
LOCATION:Wild Wellbeing Studio\, Level 1/345 Kapiti Road\, Paraparaumu Beach\, Wellington\, 5032\, New Zealand
CATEGORIES:Children,Course
ATTACH;FMTTYPE=image/png:https://wildwellbeing.co.nz/wp-content/uploads/2022/06/Kids-YOGA-Facebook-Cover3.png
END:VEVENT
BEGIN:VEVENT
DTSTART;TZID=UTC:20220504T154500
DTEND;TZID=UTC:20220504T161400
DTSTAMP:20260424T200443
CREATED:20220307T025557Z
LAST-MODIFIED:20220307T025557Z
UID:1473-1651679100-1651680840@wildwellbeing.co.nz
SUMMARY:4-7yr olds Kids Yoga Term
DESCRIPTION:We love sharing yoga with everyone\, especially children!\nOur classes are fun-filled and playfully instructed by highly qualified teachers who are passionate about kids and yoga!\nOver the course of 10 weeks\, your child will use stories\, play\, partner work and group activities to explore:\n– yoga asana\n– breathwork\n– fun mindfulness activities\n– meditation techniques\nWe include\, songs\, games\, story-time\, crafts\, and balancing poses as well some Zen time\, so that your littlie leaves feeling confident\, calm and centered. For the older groups we also include things like empowerment techniques\, self-compassion\, stress management activities\, journaling\, dream boards and sharing circles.\nWith everything kids have to deal with in their generation: social media\, internet\, screens\, increased stress\, global pandemics. We want to give them the skills to cope and flourish.\nThe Dalai Lama once said\, “If every 8 year old in the world is taught meditation\, we will eliminate violence from the world within one generation.”\nYour child is also sure to make new friends throughout the term!\n4-7yr old | Wednesday 3.45 – 4.15 | $70 (10 week term) https://bit.ly/3twpUiB\nTerm runs Monday 2 May to Friday 8 July
URL:https://wildwellbeing.co.nz/event/4-7yr-olds-kids-yoga-term/
LOCATION:Wild Wellbeing Studio\, Level 1/345 Kapiti Road\, Paraparaumu Beach\, Wellington\, 5032\, New Zealand
CATEGORIES:Children,Course
ATTACH;FMTTYPE=image/png:https://wildwellbeing.co.nz/wp-content/uploads/2022/03/Kids-YOGA-4-7-Facebook-Cover.png
END:VEVENT
BEGIN:VEVENT
DTSTART;TZID=UTC:20220502T154500
DTEND;TZID=UTC:20220502T161500
DTSTAMP:20260424T200443
CREATED:20220307T025608Z
LAST-MODIFIED:20220307T025608Z
UID:1474-1651506300-1651508100@wildwellbeing.co.nz
SUMMARY:8-12yr olds Kids Yoga Term
DESCRIPTION:We love sharing yoga with everyone\, especially children!\nOur classes are fun-filled and playfully instructed by highly qualified teachers who are passionate about kids and yoga!\nOver the course of 10 weeks\, your child will use stories\, play\, partner work and group activities to explore:\n– yoga asana\n– breathwork\n– fun mindfulness activities\n– meditation techniques\nWe include\, songs\, games\, story-time\, crafts\, and balancing poses as well some Zen time\, so that your littlie leaves feeling confident\, calm and centered. For the older groups we also include things like empowerment techniques\, self-compassion\, stress management activities\, journaling\, dream boards and sharing circles.\nWith everything kids have to deal with in their generation: social media\, internet\, screens\, increased stress\, global pandemics. We want to give them the skills to cope and flourish.\nThe Dalai Lama once said\, “If every 8 year old in the world is taught meditation\, we will eliminate violence from the world within one generation.”\nYour child is also sure to make new friends throughout the term!\n8-12yr old | Monday 3.45 – 4.30 | $90 (9 week term) https://bit.ly/3pGOHj2\nTerm runs Monday 2 May to Friday 8 July
URL:https://wildwellbeing.co.nz/event/8-12yr-olds-kids-yoga-term/
LOCATION:Wild Wellbeing Studio\, Level 1/345 Kapiti Road\, Paraparaumu Beach\, Wellington\, 5032\, New Zealand
CATEGORIES:Children,Course
ATTACH;FMTTYPE=image/png:https://wildwellbeing.co.nz/wp-content/uploads/2022/03/Kids-YOGA-8-12-Facebook-Cover.png
END:VEVENT
END:VCALENDAR